Package: nnSVG Version: 1.12.0 Command: /Library/Frameworks/R.framework/Resources/bin/R CMD INSTALL nnSVG StartedAt: 2025-04-21 15:21:02 -0400 (Mon, 21 Apr 2025) EndedAt: 2025-04-21 15:21:34 -0400 (Mon, 21 Apr 2025) EllapsedTime: 31.3 seconds RetCode: 0 Status: OK