Package: nnNorm Version: 2.70.0 Command: /home/biocbuild/R/R/bin/R CMD check --install=check:nnNorm.install-out.txt --library=/home/biocbuild/R/R/site-library --no-vignettes --timings nnNorm_2.70.0.tar.gz StartedAt: 2025-01-31 08:42:18 -0000 (Fri, 31 Jan 2025) EndedAt: 2025-01-31 08:43:49 -0000 (Fri, 31 Jan 2025) EllapsedTime: 91.2 seconds RetCode: 0 Status: OK CheckDir: nnNorm.Rcheck Warnings: 0