Package: nnNorm Version: 2.72.0 Command: chmod a+r nnNorm -R && E:\biocbuild\bbs-3.21-bioc\R\bin\R.exe CMD build --keep-empty-dirs --no-resave-data nnNorm StartedAt: 2025-08-14 20:52:54 -0400 (Thu, 14 Aug 2025) EndedAt: 2025-08-14 20:54:06 -0400 (Thu, 14 Aug 2025) EllapsedTime: 71.6 seconds RetCode: 0 Status: OK PackageFile: nnNorm_2.72.0.tar.gz PackageFileSize: 1.495 MiB