Package: nipalsMCIA Version: 1.6.0 Command: /Library/Frameworks/R.framework/Resources/bin/R CMD INSTALL nipalsMCIA StartedAt: 2025-07-17 15:33:26 -0400 (Thu, 17 Jul 2025) EndedAt: 2025-07-17 15:34:21 -0400 (Thu, 17 Jul 2025) EllapsedTime: 55.7 seconds RetCode: 0 Status: OK