Package: nipalsMCIA Version: 1.6.0 Command: rm -rf nipalsMCIA.buildbin-libdir && mkdir nipalsMCIA.buildbin-libdir && /Users/biocbuild/BBS/utils/build-universal.sh nipalsMCIA_1.6.0.tar.gz /Library/Frameworks/R.framework/Resources/bin/R nipalsMCIA.buildbin-libdir StartedAt: 2025-05-13 13:34:28 -0400 (Tue, 13 May 2025) EndedAt: 2025-05-13 13:35:53 -0400 (Tue, 13 May 2025) EllapsedTime: 85.3 seconds RetCode: 0 Status: OK PackageFile: nipalsMCIA_1.6.0.tgz PackageFileSize: 4.017 MiB