Package: nipalsMCIA Version: 1.6.0 Command: /Library/Frameworks/R.framework/Resources/bin/R CMD INSTALL nipalsMCIA StartedAt: 2025-07-10 16:14:53 -0400 (Thu, 10 Jul 2025) EndedAt: 2025-07-10 16:15:23 -0400 (Thu, 10 Jul 2025) EllapsedTime: 29.9 seconds RetCode: 0 Status: OK