Package: ngsReports Version: 2.8.0 Command: F:\biocbuild\bbs-3.20-bioc\R\bin\R.exe CMD INSTALL ngsReports StartedAt: 2025-01-30 15:52:17 -0500 (Thu, 30 Jan 2025) EndedAt: 2025-01-30 15:54:05 -0500 (Thu, 30 Jan 2025) EllapsedTime: 107.4 seconds RetCode: 0 Status: OK