Package: ngsReports Version: 2.10.0 Command: /Library/Frameworks/R.framework/Resources/bin/R CMD build --keep-empty-dirs --no-resave-data ngsReports StartedAt: 2025-04-21 17:44:37 -0400 (Mon, 21 Apr 2025) EndedAt: 2025-04-21 17:45:47 -0400 (Mon, 21 Apr 2025) EllapsedTime: 69.0 seconds RetCode: 0 Status: OK PackageFile: ngsReports_2.10.0.tar.gz PackageFileSize: 3.187 MiB