Package: ngsReports Version: 2.10.0 Command: /home/biocbuild/R/R/bin/R CMD check --install=check:ngsReports.install-out.txt --library=/home/biocbuild/R/R/site-library --no-vignettes --timings ngsReports_2.10.0.tar.gz StartedAt: 2025-04-22 11:48:15 -0000 (Tue, 22 Apr 2025) EndedAt: 2025-04-22 11:52:32 -0000 (Tue, 22 Apr 2025) EllapsedTime: 256.3 seconds RetCode: 0 Status: OK CheckDir: ngsReports.Rcheck Warnings: 0