Package: ngsReports Version: 2.8.0 Command: /home/biocbuild/R/R/bin/R CMD build --keep-empty-dirs --no-resave-data ngsReports StartedAt: 2024-11-20 02:35:34 -0000 (Wed, 20 Nov 2024) EndedAt: 2024-11-20 02:37:12 -0000 (Wed, 20 Nov 2024) EllapsedTime: 98.2 seconds RetCode: 0 Status: OK PackageFile: ngsReports_2.8.0.tar.gz PackageFileSize: 1.898 MiB