Package: ngsReports Version: 2.10.0 Command: /Library/Frameworks/R.framework/Resources/bin/R CMD INSTALL ngsReports StartedAt: 2025-04-21 15:10:16 -0400 (Mon, 21 Apr 2025) EndedAt: 2025-04-21 15:10:23 -0400 (Mon, 21 Apr 2025) EllapsedTime: 6.9 seconds RetCode: 0 Status: OK