Package: ngsReports Version: 2.10.0 Command: /Library/Frameworks/R.framework/Resources/bin/R CMD build --keep-empty-dirs --no-resave-data ngsReports StartedAt: 2025-05-16 04:54:33 -0400 (Fri, 16 May 2025) EndedAt: 2025-05-16 04:55:34 -0400 (Fri, 16 May 2025) EllapsedTime: 61.2 seconds RetCode: 0 Status: OK PackageFile: ngsReports_2.10.0.tar.gz PackageFileSize: 3.19 MiB