Package: nethet Version: 1.38.0 Command: /home/biocbuild/R/R/bin/R CMD INSTALL nethet StartedAt: 2024-11-19 21:32:42 -0000 (Tue, 19 Nov 2024) EndedAt: 2024-11-19 21:33:01 -0000 (Tue, 19 Nov 2024) EllapsedTime: 19.2 seconds RetCode: 0 Status: OK