Package: nethet Version: 1.38.0 Command: /Library/Frameworks/R.framework/Resources/bin/R CMD build --keep-empty-dirs --no-resave-data nethet StartedAt: 2025-01-31 04:32:33 -0500 (Fri, 31 Jan 2025) EndedAt: 2025-01-31 04:37:26 -0500 (Fri, 31 Jan 2025) EllapsedTime: 293.6 seconds RetCode: 0 Status: OK PackageFile: nethet_1.38.0.tar.gz PackageFileSize: 703.8 KiB