Package: netboost Version: 2.16.0 Command: /home/biocbuild/R/R/bin/R CMD INSTALL netboost StartedAt: 2025-06-12 21:05:04 -0000 (Thu, 12 Jun 2025) EndedAt: 2025-06-12 21:06:08 -0000 (Thu, 12 Jun 2025) EllapsedTime: 63.7 seconds RetCode: 0 Status: OK