Package: netZooR Version: 1.10.0 Command: /home/biocbuild/R/R/bin/R CMD check --install=check:netZooR.install-out.txt --library=/home/biocbuild/R/R/site-library --no-vignettes --timings netZooR_1.10.0.tar.gz StartedAt: 2025-01-31 08:41:17 -0000 (Fri, 31 Jan 2025) EndedAt: 2025-01-31 08:54:35 -0000 (Fri, 31 Jan 2025) EllapsedTime: 798.2 seconds RetCode: 1 Status: ERROR CheckDir: netZooR.Rcheck Warnings: NA