Package: netSmooth Version: 1.28.0 Command: /Library/Frameworks/R.framework/Resources/bin/R CMD INSTALL netSmooth StartedAt: 2025-05-08 16:42:21 -0400 (Thu, 08 May 2025) EndedAt: 2025-05-08 16:44:01 -0400 (Thu, 08 May 2025) EllapsedTime: 100.5 seconds RetCode: 0 Status: OK