Package: netSmooth Version: 1.28.0 Command: /home/biocbuild/R/R/bin/R CMD INSTALL netSmooth StartedAt: 2025-05-08 21:20:53 -0000 (Thu, 08 May 2025) EndedAt: 2025-05-08 21:21:58 -0000 (Thu, 08 May 2025) EllapsedTime: 64.5 seconds RetCode: 0 Status: OK