Package: netSmooth Version: 1.28.0 Command: /Library/Frameworks/R.framework/Resources/bin/R CMD check --install=check:netSmooth.install-out.txt --library=/Library/Frameworks/R.framework/Resources/library --no-vignettes --timings netSmooth_1.28.0.tar.gz StartedAt: 2025-04-21 20:39:57 -0400 (Mon, 21 Apr 2025) EndedAt: 2025-04-21 20:42:25 -0400 (Mon, 21 Apr 2025) EllapsedTime: 148.0 seconds RetCode: 0 Status: OK CheckDir: netSmooth.Rcheck Warnings: 0