Package: netSmooth Version: 1.28.0 Command: /Library/Frameworks/R.framework/Resources/bin/R CMD INSTALL netSmooth StartedAt: 2025-05-12 18:12:33 -0400 (Mon, 12 May 2025) EndedAt: 2025-05-12 18:13:28 -0400 (Mon, 12 May 2025) EllapsedTime: 54.8 seconds RetCode: 0 Status: OK