Package: netOmics Version: 1.12.0 Command: /home/biocbuild/R/R/bin/R CMD INSTALL netOmics StartedAt: 2025-02-03 21:17:18 -0000 (Mon, 03 Feb 2025) EndedAt: 2025-02-03 21:17:42 -0000 (Mon, 03 Feb 2025) EllapsedTime: 24.5 seconds RetCode: 0 Status: OK