Package: netDx Version: 1.20.0 Command: /Library/Frameworks/R.framework/Resources/bin/R CMD INSTALL netDx StartedAt: 2025-05-01 16:46:28 -0400 (Thu, 01 May 2025) EndedAt: 2025-05-01 16:47:37 -0400 (Thu, 01 May 2025) EllapsedTime: 69.0 seconds RetCode: 0 Status: OK