Package: netDx Version: 1.20.0 Command: /Library/Frameworks/R.framework/Resources/bin/R CMD build --keep-empty-dirs --no-resave-data netDx StartedAt: 2025-04-21 17:43:56 -0400 (Mon, 21 Apr 2025) EndedAt: 2025-04-21 17:47:56 -0400 (Mon, 21 Apr 2025) EllapsedTime: 239.9 seconds RetCode: 1 Status: ERROR PackageFile: None PackageFileSize: NA