Package: ndexr Version: 1.28.0 Command: /home/biocbuild/R/R/bin/R CMD INSTALL ndexr StartedAt: 2025-01-30 20:12:48 -0000 (Thu, 30 Jan 2025) EndedAt: 2025-01-30 20:13:21 -0000 (Thu, 30 Jan 2025) EllapsedTime: 33.1 seconds RetCode: 0 Status: OK