Package: ndexr Version: 1.28.0 Command: /home/biocbuild/bbs-3.20-bioc/R/bin/R CMD check --install=check:ndexr.install-out.txt --library=/home/biocbuild/bbs-3.20-bioc/R/site-library --timings ndexr_1.28.0.tar.gz StartedAt: 2025-01-31 00:29:00 -0500 (Fri, 31 Jan 2025) EndedAt: 2025-01-31 00:30:02 -0500 (Fri, 31 Jan 2025) EllapsedTime: 62.1 seconds RetCode: 0 Status: OK CheckDir: ndexr.Rcheck Warnings: 0