Package: ndexr Version: 1.30.0 Command: /Library/Frameworks/R.framework/Resources/bin/R CMD INSTALL ndexr StartedAt: 2025-05-01 15:12:56 -0400 (Thu, 01 May 2025) EndedAt: 2025-05-01 15:13:10 -0400 (Thu, 01 May 2025) EllapsedTime: 13.8 seconds RetCode: 0 Status: OK