Package: ndexr Version: 1.30.0 Command: /Library/Frameworks/R.framework/Resources/bin/R CMD check --install=check:ndexr.install-out.txt --library=/Library/Frameworks/R.framework/Resources/library --no-vignettes --timings ndexr_1.30.0.tar.gz StartedAt: 2025-05-02 06:53:31 -0400 (Fri, 02 May 2025) EndedAt: 2025-05-02 06:55:13 -0400 (Fri, 02 May 2025) EllapsedTime: 102.5 seconds RetCode: 0 Status: OK CheckDir: ndexr.Rcheck Warnings: 0