Package: ncdfFlow Version: 2.54.0 Command: /Library/Frameworks/R.framework/Resources/bin/R CMD INSTALL ncdfFlow StartedAt: 2025-05-05 15:21:30 -0400 (Mon, 05 May 2025) EndedAt: 2025-05-05 15:22:04 -0400 (Mon, 05 May 2025) EllapsedTime: 33.4 seconds RetCode: 0 Status: OK