Package: ncdfFlow Version: 2.54.0 Command: rm -rf ncdfFlow.buildbin-libdir && mkdir ncdfFlow.buildbin-libdir && /Users/biocbuild/BBS/utils/build-universal.sh ncdfFlow_2.54.0.tar.gz /Library/Frameworks/R.framework/Resources/bin/R ncdfFlow.buildbin-libdir StartedAt: 2025-05-09 12:49:23 -0400 (Fri, 09 May 2025) EndedAt: 2025-05-09 12:50:00 -0400 (Fri, 09 May 2025) EllapsedTime: 37.0 seconds RetCode: 0 Status: OK PackageFile: ncdfFlow_2.54.0.tgz PackageFileSize: 2.034 MiB