Package: ncRNAtools Version: 1.20.0 Command: /home/biocbuild/bbs-3.22-bioc/R/bin/R CMD INSTALL ncRNAtools StartedAt: 2025-11-14 15:24:57 -0500 (Fri, 14 Nov 2025) EndedAt: 2025-11-14 15:25:09 -0500 (Fri, 14 Nov 2025) EllapsedTime: 12.1 seconds RetCode: 0 Status: OK