Package: ncRNAtools Version: 1.20.0 Command: /Library/Frameworks/R.framework/Resources/bin/R CMD INSTALL ncRNAtools StartedAt: 2025-11-17 17:36:08 -0500 (Mon, 17 Nov 2025) EndedAt: 2025-11-17 17:36:13 -0500 (Mon, 17 Nov 2025) EllapsedTime: 5.2 seconds RetCode: 0 Status: OK