Package: ncRNAtools Version: 1.20.0 Command: /Library/Frameworks/R.framework/Resources/bin/R CMD build --keep-empty-dirs --no-resave-data ncRNAtools StartedAt: 2025-11-17 23:20:53 -0500 (Mon, 17 Nov 2025) EndedAt: 2025-11-17 23:22:34 -0500 (Mon, 17 Nov 2025) EllapsedTime: 100.8 seconds RetCode: 0 Status: OK PackageFile: ncRNAtools_1.20.0.tar.gz PackageFileSize: 316.6 KiB