Package: ncRNAtools Version: 1.20.0 Command: rm -rf ncRNAtools.buildbin-libdir && mkdir ncRNAtools.buildbin-libdir && /Users/biocbuild/BBS/utils/build-universal.sh ncRNAtools_1.20.0.tar.gz /Library/Frameworks/R.framework/Resources/bin/R ncRNAtools.buildbin-libdir StartedAt: 2025-11-18 16:01:53 -0500 (Tue, 18 Nov 2025) EndedAt: 2025-11-18 16:01:59 -0500 (Tue, 18 Nov 2025) EllapsedTime: 6.1 seconds RetCode: 0 Status: OK PackageFile: ncRNAtools_1.20.0.tgz PackageFileSize: 391.6 KiB