Package: ncGTW Version: 1.20.0 Command: /home/biocbuild/R/R/bin/R CMD INSTALL ncGTW StartedAt: 2025-01-30 20:48:09 -0000 (Thu, 30 Jan 2025) EndedAt: 2025-01-30 20:49:27 -0000 (Thu, 30 Jan 2025) EllapsedTime: 77.5 seconds RetCode: 0 Status: OK