Package: ncGTW Version: 1.22.0 Command: /Library/Frameworks/R.framework/Resources/bin/R CMD build --keep-empty-dirs --no-resave-data ncGTW StartedAt: 2025-10-13 21:04:22 -0400 (Mon, 13 Oct 2025) EndedAt: 2025-10-13 21:11:51 -0400 (Mon, 13 Oct 2025) EllapsedTime: 449.3 seconds RetCode: 0 Status: OK PackageFile: ncGTW_1.22.0.tar.gz PackageFileSize: 2.304 MiB