Package: ncGTW Version: 1.22.0 Command: /home/biocbuild/R/R/bin/R CMD check --install=check:ncGTW.install-out.txt --library=/home/biocbuild/R/R/site-library --no-vignettes --timings ncGTW_1.22.0.tar.gz StartedAt: 2025-04-22 11:44:46 -0000 (Tue, 22 Apr 2025) EndedAt: 2025-04-22 11:56:01 -0000 (Tue, 22 Apr 2025) EllapsedTime: 675.0 seconds RetCode: 0 Status: OK CheckDir: ncGTW.Rcheck Warnings: 0