Package: nanotatoR Version: 1.22.0 Command: /home/biocbuild/R/R/bin/R CMD build --keep-empty-dirs --no-resave-data nanotatoR StartedAt: 2025-01-31 01:17:53 -0000 (Fri, 31 Jan 2025) EndedAt: 2025-01-31 01:17:54 -0000 (Fri, 31 Jan 2025) EllapsedTime: 1.0 seconds RetCode: 1 Status: ERROR PackageFile: None PackageFileSize: NA