Package: mzR Version: 2.42.0 Command: rm -rf mzR.buildbin-libdir && mkdir mzR.buildbin-libdir && /Users/biocbuild/BBS/utils/build-universal.sh mzR_2.42.0.tar.gz /Library/Frameworks/R.framework/Resources/bin/R mzR.buildbin-libdir StartedAt: 2025-04-22 00:57:44 -0400 (Tue, 22 Apr 2025) EndedAt: 2025-04-22 01:08:03 -0400 (Tue, 22 Apr 2025) EllapsedTime: 618.4 seconds RetCode: 0 Status: OK PackageFile: mzR_2.42.0.tgz PackageFileSize: 4.034 MiB