Package: mzID Version: 1.46.0 Command: /Library/Frameworks/R.framework/Resources/bin/R CMD INSTALL mzID StartedAt: 2025-04-21 15:03:18 -0400 (Mon, 21 Apr 2025) EndedAt: 2025-04-21 15:03:30 -0400 (Mon, 21 Apr 2025) EllapsedTime: 12.0 seconds RetCode: 0 Status: OK