Package: myvariant Version: 1.38.0 Command: /Library/Frameworks/R.framework/Resources/bin/R CMD check --install=check:myvariant.install-out.txt --library=/Library/Frameworks/R.framework/Resources/library --no-vignettes --timings myvariant_1.38.0.tar.gz StartedAt: 2025-05-14 02:53:05 -0400 (Wed, 14 May 2025) EndedAt: 2025-05-14 02:58:07 -0400 (Wed, 14 May 2025) EllapsedTime: 302.6 seconds RetCode: 0 Status: OK CheckDir: myvariant.Rcheck Warnings: 0