Package: mygene Version: 1.44.0 Command: /home/biocbuild/bbs-3.21-bioc/R/bin/R CMD build --keep-empty-dirs --no-resave-data mygene StartedAt: 2025-10-15 18:47:44 -0400 (Wed, 15 Oct 2025) EndedAt: 2025-10-15 18:48:44 -0400 (Wed, 15 Oct 2025) EllapsedTime: 60.0 seconds RetCode: 0 Status: OK PackageFile: mygene_1.44.0.tar.gz PackageFileSize: 166.7 KiB