Package: mygene Version: 1.44.0 Command: /Library/Frameworks/R.framework/Resources/bin/R CMD check --install=check:mygene.install-out.txt --library=/Library/Frameworks/R.framework/Resources/library --no-vignettes --timings mygene_1.44.0.tar.gz StartedAt: 2025-04-21 22:14:20 -0400 (Mon, 21 Apr 2025) EndedAt: 2025-04-21 22:19:07 -0400 (Mon, 21 Apr 2025) EllapsedTime: 287.1 seconds RetCode: 0 Status: OK CheckDir: mygene.Rcheck Warnings: 0