Package: mygene Version: 1.44.0 Command: /Library/Frameworks/R.framework/Resources/bin/R CMD INSTALL mygene StartedAt: 2025-04-21 15:21:45 -0400 (Mon, 21 Apr 2025) EndedAt: 2025-04-21 15:22:01 -0400 (Mon, 21 Apr 2025) EllapsedTime: 16.5 seconds RetCode: 0 Status: OK