Package: mygene Version: 1.44.0 Command: /Library/Frameworks/R.framework/Resources/bin/R CMD build --keep-empty-dirs --no-resave-data mygene StartedAt: 2025-04-21 17:06:42 -0400 (Mon, 21 Apr 2025) EndedAt: 2025-04-21 17:07:12 -0400 (Mon, 21 Apr 2025) EllapsedTime: 29.3 seconds RetCode: 0 Status: OK PackageFile: mygene_1.44.0.tar.gz PackageFileSize: 166.2 KiB