Package: mygene Version: 1.44.0 Command: rm -rf mygene.buildbin-libdir && mkdir mygene.buildbin-libdir && /Users/biocbuild/BBS/utils/build-universal.sh mygene_1.44.0.tar.gz /Library/Frameworks/R.framework/Resources/bin/R mygene.buildbin-libdir StartedAt: 2025-04-21 22:44:19 -0400 (Mon, 21 Apr 2025) EndedAt: 2025-04-21 22:44:36 -0400 (Mon, 21 Apr 2025) EllapsedTime: 17.3 seconds RetCode: 0 Status: OK PackageFile: mygene_1.44.0.tgz PackageFileSize: 223 KiB