Package: mygene Version: 1.44.0 Command: /Library/Frameworks/R.framework/Resources/bin/R CMD check --install=check:mygene.install-out.txt --library=/Library/Frameworks/R.framework/Resources/library --no-vignettes --timings mygene_1.44.0.tar.gz StartedAt: 2025-05-10 02:55:50 -0400 (Sat, 10 May 2025) EndedAt: 2025-05-10 03:00:32 -0400 (Sat, 10 May 2025) EllapsedTime: 282.3 seconds RetCode: 0 Status: OK CheckDir: mygene.Rcheck Warnings: 0