Package: mygene Version: 1.44.0 Command: /Library/Frameworks/R.framework/Resources/bin/R CMD build --keep-empty-dirs --no-resave-data mygene StartedAt: 2025-05-09 04:47:21 -0400 (Fri, 09 May 2025) EndedAt: 2025-05-09 04:48:36 -0400 (Fri, 09 May 2025) EllapsedTime: 75.6 seconds RetCode: 0 Status: OK PackageFile: mygene_1.44.0.tar.gz PackageFileSize: 165.4 KiB