Package: mutscan Version: 1.0.0 Command: /home/biocbuild/bbs-3.22-bioc/R/bin/R CMD INSTALL mutscan StartedAt: 2025-11-14 15:37:53 -0500 (Fri, 14 Nov 2025) EndedAt: 2025-11-14 15:38:51 -0500 (Fri, 14 Nov 2025) EllapsedTime: 58.3 seconds RetCode: 0 Status: OK