Package: musicatk Version: 2.0.0 Command: /home/biocbuild/R/R/bin/R CMD INSTALL musicatk StartedAt: 2025-02-03 21:24:34 -0000 (Mon, 03 Feb 2025) EndedAt: 2025-02-03 21:25:31 -0000 (Mon, 03 Feb 2025) EllapsedTime: 57.6 seconds RetCode: 0 Status: OK