Package: musicatk Version: 2.0.0 Command: /home/biocbuild/R/R/bin/R CMD build --keep-empty-dirs --no-resave-data musicatk StartedAt: 2025-01-31 01:15:40 -0000 (Fri, 31 Jan 2025) EndedAt: 2025-01-31 01:22:01 -0000 (Fri, 31 Jan 2025) EllapsedTime: 381.2 seconds RetCode: 0 Status: OK PackageFile: musicatk_2.0.0.tar.gz PackageFileSize: 3.228 MiB